Package: MSA2dist Version: 1.15.0 Command: /Library/Frameworks/R.framework/Resources/bin/R CMD build --keep-empty-dirs --no-resave-data MSA2dist StartedAt: 2025-11-13 17:07:17 -0500 (Thu, 13 Nov 2025) EndedAt: 2025-11-13 17:07:44 -0500 (Thu, 13 Nov 2025) EllapsedTime: 27.3 seconds RetCode: 0 Status: OK PackageFile: MSA2dist_1.15.0.tar.gz PackageFileSize: 881.5 KiB