Package: MSA2dist Version: 1.15.0 Command: rm -rf MSA2dist.buildbin-libdir && mkdir MSA2dist.buildbin-libdir && /Users/biocbuild/BBS/utils/build-universal.sh MSA2dist_1.15.0.tar.gz /Library/Frameworks/R.framework/Resources/bin/R MSA2dist.buildbin-libdir StartedAt: 2025-11-13 23:46:54 -0500 (Thu, 13 Nov 2025) EndedAt: 2025-11-13 23:47:18 -0500 (Thu, 13 Nov 2025) EllapsedTime: 24.5 seconds RetCode: 0 Status: OK PackageFile: MSA2dist_1.15.0.tgz PackageFileSize: 1.143 MiB