Package: MSA2dist Version: 1.15.0 Maintainer: Kristian K Ullrich MaintainerEmail: ullrich at evolbio.mpg.de git_url: https://git.bioconductor.org/packages/MSA2dist git_branch: devel git_last_commit: 662eead git_last_commit_date: 2025-10-29 11:14:34 -0500 (Wed, 29 Oct 2025)