Package: MPRAnalyze Version: 1.29.0 Command: /home/biocbuild/bbs-3.23-bioc/R/bin/R CMD build --keep-empty-dirs --no-resave-data MPRAnalyze StartedAt: 2025-11-16 18:54:37 -0500 (Sun, 16 Nov 2025) EndedAt: 2025-11-16 18:55:50 -0500 (Sun, 16 Nov 2025) EllapsedTime: 73.1 seconds RetCode: 0 Status: OK PackageFile: MPRAnalyze_1.29.0.tar.gz PackageFileSize: 559.5 KiB