Package: MPRAnalyze Version: 1.29.0 Command: /Library/Frameworks/R.framework/Resources/bin/R CMD build --keep-empty-dirs --no-resave-data MPRAnalyze StartedAt: 2025-11-14 17:04:04 -0500 (Fri, 14 Nov 2025) EndedAt: 2025-11-14 17:04:31 -0500 (Fri, 14 Nov 2025) EllapsedTime: 27.3 seconds RetCode: 0 Status: OK PackageFile: MPRAnalyze_1.29.0.tar.gz PackageFileSize: 406.3 KiB