Package: MPRAnalyze Version: 1.29.0 Command: rm -rf MPRAnalyze.buildbin-libdir && mkdir MPRAnalyze.buildbin-libdir && /Users/biocbuild/BBS/utils/build-universal.sh MPRAnalyze_1.29.0.tar.gz /Library/Frameworks/R.framework/Resources/bin/R MPRAnalyze.buildbin-libdir StartedAt: 2025-11-14 23:41:57 -0500 (Fri, 14 Nov 2025) EndedAt: 2025-11-14 23:42:08 -0500 (Fri, 14 Nov 2025) EllapsedTime: 11.2 seconds RetCode: 0 Status: OK PackageFile: MPRAnalyze_1.29.0.tgz PackageFileSize: 638.7 KiB