Package: MPRAnalyze Version: 1.29.0 Maintainer: Tal Ashuach MaintainerEmail: tal_ashuach at berkeley.edu git_url: https://git.bioconductor.org/packages/MPRAnalyze git_branch: devel git_last_commit: e893d06 git_last_commit_date: 2025-10-29 10:48:00 -0500 (Wed, 29 Oct 2025)