Package: MPFE Version: 1.47.0 Command: /home/biocbuild/bbs-3.23-bioc/R/bin/R CMD build --keep-empty-dirs --no-resave-data MPFE StartedAt: 2025-11-14 18:49:07 -0500 (Fri, 14 Nov 2025) EndedAt: 2025-11-14 18:49:11 -0500 (Fri, 14 Nov 2025) EllapsedTime: 4.0 seconds RetCode: 0 Status: OK PackageFile: MPFE_1.47.0.tar.gz PackageFileSize: 191.3 KiB