Package: MPFE Version: 1.47.0 Command: /Library/Frameworks/R.framework/Resources/bin/R CMD build --keep-empty-dirs --no-resave-data MPFE StartedAt: 2025-11-13 17:06:56 -0500 (Thu, 13 Nov 2025) EndedAt: 2025-11-13 17:06:59 -0500 (Thu, 13 Nov 2025) EllapsedTime: 3.0 seconds RetCode: 0 Status: OK PackageFile: MPFE_1.47.0.tar.gz PackageFileSize: 191.5 KiB