Package: MPFE Version: 1.47.0 Command: rm -rf MPFE.buildbin-libdir && mkdir MPFE.buildbin-libdir && /Users/biocbuild/BBS/utils/build-universal.sh MPFE_1.47.0.tar.gz /Library/Frameworks/R.framework/Resources/bin/R MPFE.buildbin-libdir StartedAt: 2025-11-13 23:46:51 -0500 (Thu, 13 Nov 2025) EndedAt: 2025-11-13 23:46:54 -0500 (Thu, 13 Nov 2025) EllapsedTime: 2.1 seconds RetCode: 0 Status: OK PackageFile: MPFE_1.47.0.tgz PackageFileSize: 217.9 KiB