Package: MPFE Version: 1.47.0 Maintainer: Conrad Burden MaintainerEmail: conrad.burden at anu.edu.au git_url: https://git.bioconductor.org/packages/MPFE git_branch: devel git_last_commit: 8e3d15d git_last_commit_date: 2025-10-29 10:20:48 -0500 (Wed, 29 Oct 2025)