Package: MPAC Version: 1.5.0 Command: /Library/Frameworks/R.framework/Resources/bin/R CMD INSTALL MPAC StartedAt: 2025-11-13 15:31:12 -0500 (Thu, 13 Nov 2025) EndedAt: 2025-11-13 15:31:25 -0500 (Thu, 13 Nov 2025) EllapsedTime: 13.3 seconds RetCode: 0 Status: OK