Package: MPAC Version: 1.5.0 Maintainer: Peng Liu MaintainerEmail: pliu55.wisc+bioconductor at gmail.com git_url: https://git.bioconductor.org/packages/MPAC git_branch: devel git_last_commit: f287ddc git_last_commit_date: 2025-10-29 11:30:37 -0500 (Wed, 29 Oct 2025)