Package: MOSim Version: 2.7.0 Command: /home/biocbuild/bbs-3.23-bioc/R/bin/R CMD INSTALL MOSim StartedAt: 2025-11-11 15:58:06 -0500 (Tue, 11 Nov 2025) EndedAt: 2025-11-11 15:58:49 -0500 (Tue, 11 Nov 2025) EllapsedTime: 43.9 seconds RetCode: 0 Status: OK