Package: MOSim Version: 2.7.0 Command: /Library/Frameworks/R.framework/Resources/bin/R CMD INSTALL MOSim StartedAt: 2025-11-12 15:43:50 -0500 (Wed, 12 Nov 2025) EndedAt: 2025-11-12 15:43:52 -0500 (Wed, 12 Nov 2025) EllapsedTime: 1.1 seconds RetCode: 1 Status: ERROR