Package: MOSim Version: 2.7.0 Command: /Library/Frameworks/R.framework/Resources/bin/R CMD build --keep-empty-dirs --no-resave-data MOSim StartedAt: 2025-11-13 17:05:27 -0500 (Thu, 13 Nov 2025) EndedAt: 2025-11-13 17:08:11 -0500 (Thu, 13 Nov 2025) EllapsedTime: 163.8 seconds RetCode: 0 Status: OK PackageFile: MOSim_2.7.0.tar.gz PackageFileSize: 6.395 MiB