Package: MOSClip Version: 1.5.0 Command: /home/biocbuild/bbs-3.23-bioc/R/bin/R CMD INSTALL MOSClip StartedAt: 2025-11-14 15:45:24 -0500 (Fri, 14 Nov 2025) EndedAt: 2025-11-14 15:46:13 -0500 (Fri, 14 Nov 2025) EllapsedTime: 49.3 seconds RetCode: 0 Status: OK