Package: MOSClip Version: 1.5.0 Command: /Library/Frameworks/R.framework/Resources/bin/R CMD INSTALL MOSClip StartedAt: 2025-11-13 15:24:13 -0500 (Thu, 13 Nov 2025) EndedAt: 2025-11-13 15:24:34 -0500 (Thu, 13 Nov 2025) EllapsedTime: 20.1 seconds RetCode: 0 Status: OK