Package: MOSClip Version: 1.5.0 Command: rm -rf MOSClip.buildbin-libdir && mkdir MOSClip.buildbin-libdir && /Users/biocbuild/BBS/utils/build-universal.sh MOSClip_1.5.0.tar.gz /Library/Frameworks/R.framework/Resources/bin/R MOSClip.buildbin-libdir StartedAt: 2025-11-13 23:46:28 -0500 (Thu, 13 Nov 2025) EndedAt: 2025-11-13 23:46:53 -0500 (Thu, 13 Nov 2025) EllapsedTime: 24.4 seconds RetCode: 0 Status: OK PackageFile: MOSClip_1.5.0.tgz PackageFileSize: 2.414 MiB