Package: MOMA Version: 1.23.0 Command: /home/biocbuild/bbs-3.23-bioc/R/bin/R CMD INSTALL MOMA StartedAt: 2025-11-16 15:21:08 -0500 (Sun, 16 Nov 2025) EndedAt: 2025-11-16 15:21:42 -0500 (Sun, 16 Nov 2025) EllapsedTime: 33.3 seconds RetCode: 0 Status: OK