Package: MOMA Version: 1.23.0 Command: /home/biocbuild/bbs-3.23-bioc/R/bin/R CMD build --keep-empty-dirs --no-resave-data MOMA StartedAt: 2025-11-18 19:37:52 -0500 (Tue, 18 Nov 2025) EndedAt: 2025-11-18 19:39:51 -0500 (Tue, 18 Nov 2025) EllapsedTime: 119.1 seconds RetCode: 0 Status: OK PackageFile: MOMA_1.23.0.tar.gz PackageFileSize: 4.29 MiB