Package: MOMA Version: 1.23.0 Command: /Library/Frameworks/R.framework/Resources/bin/R CMD INSTALL MOMA StartedAt: 2025-11-13 15:13:05 -0500 (Thu, 13 Nov 2025) EndedAt: 2025-11-13 15:13:19 -0500 (Thu, 13 Nov 2025) EllapsedTime: 13.5 seconds RetCode: 0 Status: OK