Package: MOMA Version: 1.23.0 Command: /Library/Frameworks/R.framework/Resources/bin/R CMD build --keep-empty-dirs --no-resave-data MOMA StartedAt: 2025-11-13 17:04:21 -0500 (Thu, 13 Nov 2025) EndedAt: 2025-11-13 17:05:11 -0500 (Thu, 13 Nov 2025) EllapsedTime: 49.5 seconds RetCode: 0 Status: OK PackageFile: MOMA_1.23.0.tar.gz PackageFileSize: 4.264 MiB