Package: MOGAMUN Version: 1.21.0 Command: /home/biocbuild/bbs-3.23-bioc/R/bin/R CMD build --keep-empty-dirs --no-resave-data MOGAMUN StartedAt: 2025-11-11 18:49:23 -0500 (Tue, 11 Nov 2025) EndedAt: 2025-11-11 18:49:37 -0500 (Tue, 11 Nov 2025) EllapsedTime: 14.0 seconds RetCode: 0 Status: OK PackageFile: MOGAMUN_1.21.0.tar.gz PackageFileSize: 125.9 KiB