Package: MOGAMUN Version: 1.21.0 Command: /Library/Frameworks/R.framework/Resources/bin/R CMD build --keep-empty-dirs --no-resave-data MOGAMUN StartedAt: 2025-11-12 16:45:06 -0500 (Wed, 12 Nov 2025) EndedAt: 2025-11-12 16:45:11 -0500 (Wed, 12 Nov 2025) EllapsedTime: 5.1 seconds RetCode: 1 Status: ERROR PackageFile: None PackageFileSize: NA