Package: MOGAMUN Version: 1.21.0 Maintainer: Elva-MarĂ­a Novoa-del-Toro MaintainerEmail: elvanov at hotmail.com git_url: https://git.bioconductor.org/packages/MOGAMUN git_branch: devel git_last_commit: 9dca90c git_last_commit_date: 2025-10-29 11:03:44 -0500 (Wed, 29 Oct 2025)