Package: MOFA2 Version: 1.21.0 Command: /Library/Frameworks/R.framework/Resources/bin/R CMD INSTALL MOFA2 StartedAt: 2025-11-23 15:10:45 -0500 (Sun, 23 Nov 2025) EndedAt: 2025-11-23 15:10:55 -0500 (Sun, 23 Nov 2025) EllapsedTime: 9.6 seconds RetCode: 0 Status: OK