Package: MOFA2 Version: 1.21.0 Command: /Library/Frameworks/R.framework/Resources/bin/R CMD build --keep-empty-dirs --no-resave-data MOFA2 StartedAt: 2025-11-23 17:01:53 -0500 (Sun, 23 Nov 2025) EndedAt: 2025-11-23 17:02:44 -0500 (Sun, 23 Nov 2025) EllapsedTime: 51.6 seconds RetCode: 1 Status: ERROR PackageFile: None PackageFileSize: NA