Package: MODA Version: 1.37.0 Command: /home/biocbuild/bbs-3.23-bioc/R/bin/R CMD INSTALL MODA StartedAt: 2025-11-14 15:44:50 -0500 (Fri, 14 Nov 2025) EndedAt: 2025-11-14 15:45:09 -0500 (Fri, 14 Nov 2025) EllapsedTime: 19.3 seconds RetCode: 0 Status: OK