Package: MODA Version: 1.37.0 Command: /home/biocbuild/bbs-3.23-bioc/R/bin/R CMD build --keep-empty-dirs --no-resave-data MODA StartedAt: 2025-11-14 18:44:42 -0500 (Fri, 14 Nov 2025) EndedAt: 2025-11-14 18:44:43 -0500 (Fri, 14 Nov 2025) EllapsedTime: 1.0 seconds RetCode: 0 Status: OK PackageFile: MODA_1.37.0.tar.gz PackageFileSize: 296.2 KiB