Package: MODA Version: 1.37.0 Command: /Library/Frameworks/R.framework/Resources/bin/R CMD INSTALL MODA StartedAt: 2025-11-14 15:23:18 -0500 (Fri, 14 Nov 2025) EndedAt: 2025-11-14 15:23:26 -0500 (Fri, 14 Nov 2025) EllapsedTime: 8.4 seconds RetCode: 0 Status: OK