Package: MODA Version: 1.37.0 Maintainer: Dong Li MaintainerEmail: dxl466 at cs.bham.ac.uk git_url: https://git.bioconductor.org/packages/MODA git_branch: devel git_last_commit: 32634a3 git_last_commit_date: 2025-10-29 10:33:27 -0500 (Wed, 29 Oct 2025)