Package: MMDiff2 Version: 1.39.0 Command: /home/biocbuild/bbs-3.23-bioc/R/bin/R CMD INSTALL MMDiff2 StartedAt: 2025-11-11 15:32:31 -0500 (Tue, 11 Nov 2025) EndedAt: 2025-11-11 15:33:08 -0500 (Tue, 11 Nov 2025) EllapsedTime: 37.0 seconds RetCode: 0 Status: OK