Package: MMDiff2 Version: 1.39.0 Command: /home/biocbuild/bbs-3.23-bioc/R/bin/R CMD build --keep-empty-dirs --no-resave-data MMDiff2 StartedAt: 2025-11-11 18:47:52 -0500 (Tue, 11 Nov 2025) EndedAt: 2025-11-11 18:49:32 -0500 (Tue, 11 Nov 2025) EllapsedTime: 100.1 seconds RetCode: 0 Status: OK PackageFile: MMDiff2_1.39.0.tar.gz PackageFileSize: 2.848 MiB