Package: MMDiff2 Version: 1.39.0 Command: /Library/Frameworks/R.framework/Resources/bin/R CMD check --install=check:MMDiff2.install-out.txt --library=/Library/Frameworks/R.framework/Resources/library --no-vignettes --timings MMDiff2_1.39.0.tar.gz StartedAt: 2025-11-21 21:02:30 -0500 (Fri, 21 Nov 2025) EndedAt: 2025-11-21 21:04:51 -0500 (Fri, 21 Nov 2025) EllapsedTime: 140.7 seconds RetCode: 0 Status: OK CheckDir: MMDiff2.Rcheck Warnings: 0