Package: MLSeq Version: 2.29.0 Command: /home/biocbuild/bbs-3.23-bioc/R/bin/R CMD INSTALL MLSeq StartedAt: 2025-11-13 15:21:49 -0500 (Thu, 13 Nov 2025) EndedAt: 2025-11-13 15:22:23 -0500 (Thu, 13 Nov 2025) EllapsedTime: 34.3 seconds RetCode: 0 Status: OK