Package: MLSeq Version: 2.29.0 Command: /Library/Frameworks/R.framework/Resources/bin/R CMD INSTALL MLSeq StartedAt: 2025-11-14 15:14:07 -0500 (Fri, 14 Nov 2025) EndedAt: 2025-11-14 15:14:20 -0500 (Fri, 14 Nov 2025) EllapsedTime: 13.2 seconds RetCode: 0 Status: OK