Package: MLSeq Version: 2.29.0 Command: /Library/Frameworks/R.framework/Resources/bin/R CMD build --keep-empty-dirs --no-resave-data MLSeq StartedAt: 2025-11-13 17:03:17 -0500 (Thu, 13 Nov 2025) EndedAt: 2025-11-13 17:04:01 -0500 (Thu, 13 Nov 2025) EllapsedTime: 43.5 seconds RetCode: 0 Status: OK PackageFile: MLSeq_2.29.0.tar.gz PackageFileSize: 599.2 KiB