Package: MLSeq Version: 2.29.0 Maintainer: Gokmen Zararsiz MaintainerEmail: gokmenzararsiz at hotmail.com git_url: https://git.bioconductor.org/packages/MLSeq git_branch: devel git_last_commit: b1aac87 git_last_commit_date: 2025-10-29 10:18:29 -0500 (Wed, 29 Oct 2025)