Package: MLP Version: 1.59.0 Command: /Library/Frameworks/R.framework/Resources/bin/R CMD build --keep-empty-dirs --no-resave-data MLP StartedAt: 2025-11-13 17:03:14 -0500 (Thu, 13 Nov 2025) EndedAt: 2025-11-13 17:03:40 -0500 (Thu, 13 Nov 2025) EllapsedTime: 25.3 seconds RetCode: 0 Status: OK PackageFile: MLP_1.59.0.tar.gz PackageFileSize: 4.285 MiB