Package: MLP Version: 1.59.0 Command: rm -rf MLP.buildbin-libdir && mkdir MLP.buildbin-libdir && /Users/biocbuild/BBS/utils/build-universal.sh MLP_1.59.0.tar.gz /Library/Frameworks/R.framework/Resources/bin/R MLP.buildbin-libdir StartedAt: 2025-11-13 23:46:06 -0500 (Thu, 13 Nov 2025) EndedAt: 2025-11-13 23:46:13 -0500 (Thu, 13 Nov 2025) EllapsedTime: 7.1 seconds RetCode: 0 Status: OK PackageFile: MLP_1.59.0.tgz PackageFileSize: 4.338 MiB