Package: MLP Version: 1.59.0 Maintainer: Tobias Verbeke MaintainerEmail: tobias.verbeke at openanalytics.eu git_url: https://git.bioconductor.org/packages/MLP git_branch: devel git_last_commit: b806436 git_last_commit_date: 2025-10-29 10:06:15 -0500 (Wed, 29 Oct 2025)