Package: MLInterfaces Version: 1.91.0 Command: /home/biocbuild/bbs-3.23-bioc/R/bin/R CMD INSTALL MLInterfaces StartedAt: 2025-11-11 15:31:39 -0500 (Tue, 11 Nov 2025) EndedAt: 2025-11-11 15:32:10 -0500 (Tue, 11 Nov 2025) EllapsedTime: 31.1 seconds RetCode: 0 Status: OK