Package: MLInterfaces Version: 1.91.0 Command: /Library/Frameworks/R.framework/Resources/bin/R CMD INSTALL MLInterfaces StartedAt: 2025-11-13 15:12:53 -0500 (Thu, 13 Nov 2025) EndedAt: 2025-11-13 15:13:05 -0500 (Thu, 13 Nov 2025) EllapsedTime: 12.3 seconds RetCode: 0 Status: OK