Package: MICSQTL Version: 1.9.0 Command: /home/biocbuild/bbs-3.23-bioc/R/bin/R CMD build --keep-empty-dirs --no-resave-data MICSQTL StartedAt: 2025-11-13 18:39:03 -0500 (Thu, 13 Nov 2025) EndedAt: 2025-11-13 18:39:50 -0500 (Thu, 13 Nov 2025) EllapsedTime: 47.1 seconds RetCode: 0 Status: OK PackageFile: MICSQTL_1.9.0.tar.gz PackageFileSize: 3.085 MiB