Package: MICSQTL Version: 1.9.0 Command: /Library/Frameworks/R.framework/Resources/bin/R CMD INSTALL MICSQTL StartedAt: 2025-11-12 15:35:45 -0500 (Wed, 12 Nov 2025) EndedAt: 2025-11-12 15:35:57 -0500 (Wed, 12 Nov 2025) EllapsedTime: 11.2 seconds RetCode: 0 Status: OK