Package: MICSQTL Version: 1.9.0 Command: /Library/Frameworks/R.framework/Resources/bin/R CMD build --keep-empty-dirs --no-resave-data MICSQTL StartedAt: 2025-11-12 16:42:46 -0500 (Wed, 12 Nov 2025) EndedAt: 2025-11-12 16:43:06 -0500 (Wed, 12 Nov 2025) EllapsedTime: 20.2 seconds RetCode: 0 Status: OK PackageFile: MICSQTL_1.9.0.tar.gz PackageFileSize: 3.085 MiB