Package: MICSQTL Version: 1.9.0 Command: rm -rf MICSQTL.buildbin-libdir && mkdir MICSQTL.buildbin-libdir && /Users/biocbuild/BBS/utils/build-universal.sh MICSQTL_1.9.0.tar.gz /Library/Frameworks/R.framework/Resources/bin/R MICSQTL.buildbin-libdir StartedAt: 2025-11-12 21:02:50 -0500 (Wed, 12 Nov 2025) EndedAt: 2025-11-12 21:03:04 -0500 (Wed, 12 Nov 2025) EllapsedTime: 13.2 seconds RetCode: 0 Status: OK PackageFile: MICSQTL_1.9.0.tgz PackageFileSize: 2.644 MiB