Package: MICSQTL Version: 1.9.0 Maintainer: Qian Li MaintainerEmail: qian.li at stjude.org git_url: https://git.bioconductor.org/packages/MICSQTL git_branch: devel git_last_commit: b9763ce git_last_commit_date: 2025-10-29 11:24:12 -0500 (Wed, 29 Oct 2025)