Package: MEB Version: 1.25.0 Command: /Library/Frameworks/R.framework/Resources/bin/R CMD INSTALL MEB StartedAt: 2025-11-16 15:29:48 -0500 (Sun, 16 Nov 2025) EndedAt: 2025-11-16 15:30:05 -0500 (Sun, 16 Nov 2025) EllapsedTime: 17.4 seconds RetCode: 0 Status: OK